BEGIN:VCALENDAR
VERSION:2.0
PRODID:-//Cetiya Dhammadasa - ECPv4.9.13//NONSGML v1.0//EN
CALSCALE:GREGORIAN
METHOD:PUBLISH
X-WR-CALNAME:Cetiya Dhammadasa
X-ORIGINAL-URL:https://www.ibsnsw.org.au
X-WR-CALDESC:Events for Cetiya Dhammadasa
BEGIN:VTIMEZONE
TZID:Australia/Sydney
BEGIN:STANDARD
TZOFFSETFROM:+1100
TZOFFSETTO:+1000
TZNAME:AEST
DTSTART:20200404T160000
END:STANDARD
BEGIN:DAYLIGHT
TZOFFSETFROM:+1000
TZOFFSETTO:+1100
TZNAME:AEDT
DTSTART:20201003T160000
END:DAYLIGHT
END:VTIMEZONE
BEGIN:VEVENT
DTSTART;TZID=Australia/Sydney:20200202T100000
DTEND;TZID=Australia/Sydney:20200202T120000
DTSTAMP:20200302T054000
CREATED:20191217T031758Z
LAST-MODIFIED:20200108T190540Z
UID:2130-1580637600-1580644800@www.ibsnsw.org.au
SUMMARY:Gawaine Powell Davies
DESCRIPTION:
URL:https://www.ibsnsw.org.au/event/gawaine-powell-davies-5/
LOCATION:Cetiya Dhammadasa\, 37/112 McEvoy Street\, Alexandria\, NSW\, 2015\, Australia
CATEGORIES:Sunday Morning
END:VEVENT
END:VCALENDAR